BEGIN:VCALENDAR
VERSION:2.0
PRODID:-//Plone.org//NONSGML plone.app.event//EN
X-WR-TIMEZONE:Brazil/East
BEGIN:VEVENT
SUMMARY:9ª Sessão Ordinária do 2º Período de Sessões da  19ª Legisl
 atura
DTSTART;TZID=Brazil/East;VALUE=DATE-TIME:20220906T190000
DTEND;TZID=Brazil/East;VALUE=DATE-TIME:20220906T210000
DTSTAMP;VALUE=DATE-TIME:20260424T052619Z
UID:f8e286014fdb45c9867037f2cbe6d770@www.saojoaodosabugi.rn.leg.br
EXDATE;TZID=Brazil/East:20220907T000000,20220908T000000,20220909T000000,20
 220910T000000,20220911T000000,20220912T000000,20220913T000000,20220914T000
 000,20220915T000000
ATTENDEE;CN="Aprígio Pereira de Araújo Neto";ROLE=REQ-PARTICIPANT:Apríg
 io Pereira de Araújo Neto
ATTENDEE;CN="Alex-Sandro Alves";ROLE=REQ-PARTICIPANT:Alex-Sandro Alves
ATTENDEE;CN="André Luiz Fernandes de Medeiros";ROLE=REQ-PARTICIPANT:Andr
 é Luiz Fernandes de Medeiros
ATTENDEE;CN="Braz Robson de Medeiros Brito";ROLE=REQ-PARTICIPANT:Braz Robs
 on de Medeiros Brito
ATTENDEE;CN="Cipriano Alves da Costa Neto";ROLE=REQ-PARTICIPANT:Cipriano A
 lves da Costa Neto
ATTENDEE;CN="Isaías José do Patrocínio Fernandes de Morais";ROLE=REQ-PA
 RTICIPANT:Isaías José do Patrocínio Fernandes de Morais
ATTENDEE;CN="Maria Aparecida Morais de Araújo";ROLE=REQ-PARTICIPANT:Maria
  Aparecida Morais de Araújo
ATTENDEE;CN="Quintino Liberalino de Araújo";ROLE=REQ-PARTICIPANT:Quintino
  Liberalino de Araújo
ATTENDEE;CN="Wilson Pereira Mariz Junior";ROLE=REQ-PARTICIPANT:Wilson Pere
 ira Mariz Junior
CREATED;VALUE=DATE-TIME:20220905T134842Z
LAST-MODIFIED;VALUE=DATE-TIME:20220905T144917Z
LOCATION:Sede da Câmara Municipal de São João do Sabugi
RRULE:FREQ=DAILY;COUNT=1
URL:https://www.saojoaodosabugi.rn.leg.br/institucional/eventos/9a-sessao-
 ordinaria-do-2o-periodo-de-sessoes-da-19a-legislatura
END:VEVENT
BEGIN:VTIMEZONE
TZID:Brazil/East
X-LIC-LOCATION:Brazil/East
BEGIN:STANDARD
DTSTART;VALUE=DATE-TIME:20220219T230000
TZNAME:BRT
TZOFFSETFROM:-0200
TZOFFSETTO:-0300
END:STANDARD
END:VTIMEZONE
END:VCALENDAR
